BEGIN:VCALENDAR
VERSION:2.0
PRODID:-//Dorpshuis Blaercom Blaricum - ECPv6.15.20//NONSGML v1.0//EN
CALSCALE:GREGORIAN
METHOD:PUBLISH
X-ORIGINAL-URL:https://blaercom.nl
X-WR-CALDESC:Evenementen voor Dorpshuis Blaercom Blaricum
REFRESH-INTERVAL;VALUE=DURATION:PT1H
X-Robots-Tag:noindex
X-PUBLISHED-TTL:PT1H
BEGIN:VTIMEZONE
TZID:Europe/Amsterdam
BEGIN:DAYLIGHT
TZOFFSETFROM:+0100
TZOFFSETTO:+0200
TZNAME:CEST
DTSTART:20250330T010000
END:DAYLIGHT
BEGIN:STANDARD
TZOFFSETFROM:+0200
TZOFFSETTO:+0100
TZNAME:CET
DTSTART:20251026T010000
END:STANDARD
BEGIN:DAYLIGHT
TZOFFSETFROM:+0100
TZOFFSETTO:+0200
TZNAME:CEST
DTSTART:20260329T010000
END:DAYLIGHT
BEGIN:STANDARD
TZOFFSETFROM:+0200
TZOFFSETTO:+0100
TZNAME:CET
DTSTART:20261025T010000
END:STANDARD
BEGIN:DAYLIGHT
TZOFFSETFROM:+0100
TZOFFSETTO:+0200
TZNAME:CEST
DTSTART:20270328T010000
END:DAYLIGHT
BEGIN:STANDARD
TZOFFSETFROM:+0200
TZOFFSETTO:+0100
TZNAME:CET
DTSTART:20271031T010000
END:STANDARD
END:VTIMEZONE
BEGIN:VEVENT
DTSTART;TZID=Europe/Amsterdam:20260504T090000
DTEND;TZID=Europe/Amsterdam:20260504T120000
DTSTAMP:20260421T222835
CREATED:20251027T122508Z
LAST-MODIFIED:20251027T122508Z
UID:10011861-1777885200-1777896000@blaercom.nl
SUMMARY:Tai Chi voorjaar (Volksuniversiteit)
DESCRIPTION:Tai Chi is een eeuwenoude bewegingskunst\, afkomstig uit China. Het wordt in Nederland voornamelijk beoefend ter bevordering van de gezondheid. Tai Chi Chuan is een subtiele\, maar krachtige manier om je souplesse\, lichaamsbewustzijn en zelfkennis te vergroten. Bij regelmatig oefenen ga je soepeler bewegen en je immuunsysteem wordt versterkt. De essentie is optimaal presteren onder minimale druk. Het is niet alleen fijn om te doen\, maar ook mooi om te zien. \nDiegene die elders al Tai Chi  ervaring heeft opgedaan en die zich voor het eerst aanmeldt\, wordt aangeraden om eerst een afspraak voor een aparte proefles te maken\, om te kijken wat de Tai Chi cursus inhoudt en welke instroommogelijkheden er zijn. \nMen moet wel fysiek in staat zijn om een uur te staan om deze lessen te volgen. Bij twijfel overleggen met de docent. \nKledingadvies: comfortabele kleding en platte schoenen zonder profiel. \nKoa Ying Huang\nKoa Ying Huang is geboren in Indonesië en opgegroeid in Hilversum. Hij beoefent al vele jaren met veel plezier Tai Chi. Hij traint zelf dagelijks en volgt Tai Chi workshops in binnen- en buitenland om zijn kennis steeds meer te verdiepen. \n9.00 – 10.00 uur beginners Aanmelden: via Volksuniversiteit\n10.00 – 11.00 uur half gevorderden Aanmelden: via Volksuniversiteit\n11.00 – 12.00 uur gevorderden aanmelden: via Volksuniversiteit
URL:https://blaercom.nl/agenda/tai-chi-voorjaar-volksuniversiteit/2026-05-04/
LOCATION:Blaercom\, Schoolstraat 3\, Blaricum\, Noord-Holland\, 1261 EV\, Nederland
CATEGORIES:Homepage,Sport,Wekelijks
ATTACH;FMTTYPE=image/jpeg:https://blaercom.nl/wp-content/uploads/2025/10/0784044416c5a2285580d5f3ad96df8e161b431b.jpg
ORGANIZER;CN="Volksuniversiteit Het Gooi":MAILTO:info@volksuniversiteithetgooi.nl
GEO:40.602991;-73.959517
X-APPLE-STRUCTURED-LOCATION;VALUE=URI;X-ADDRESS=Blaercom Schoolstraat 3 Blaricum Noord-Holland 1261 EV Nederland;X-APPLE-RADIUS=500;X-TITLE=Schoolstraat 3:geo:-73.959517,40.602991
END:VEVENT
END:VCALENDAR