BEGIN:VCALENDAR
VERSION:2.0
PRODID:-//Dorpshuis Blaercom Blaricum - ECPv6.15.20//NONSGML v1.0//EN
CALSCALE:GREGORIAN
METHOD:PUBLISH
X-ORIGINAL-URL:https://blaercom.nl
X-WR-CALDESC:Evenementen voor Dorpshuis Blaercom Blaricum
REFRESH-INTERVAL;VALUE=DURATION:PT1H
X-Robots-Tag:noindex
X-PUBLISHED-TTL:PT1H
BEGIN:VTIMEZONE
TZID:Europe/Amsterdam
BEGIN:DAYLIGHT
TZOFFSETFROM:+0100
TZOFFSETTO:+0200
TZNAME:CEST
DTSTART:20250330T010000
END:DAYLIGHT
BEGIN:STANDARD
TZOFFSETFROM:+0200
TZOFFSETTO:+0100
TZNAME:CET
DTSTART:20251026T010000
END:STANDARD
BEGIN:DAYLIGHT
TZOFFSETFROM:+0100
TZOFFSETTO:+0200
TZNAME:CEST
DTSTART:20260329T010000
END:DAYLIGHT
BEGIN:STANDARD
TZOFFSETFROM:+0200
TZOFFSETTO:+0100
TZNAME:CET
DTSTART:20261025T010000
END:STANDARD
BEGIN:DAYLIGHT
TZOFFSETFROM:+0100
TZOFFSETTO:+0200
TZNAME:CEST
DTSTART:20270328T010000
END:DAYLIGHT
BEGIN:STANDARD
TZOFFSETFROM:+0200
TZOFFSETTO:+0100
TZNAME:CET
DTSTART:20271031T010000
END:STANDARD
END:VTIMEZONE
BEGIN:VEVENT
DTSTART;TZID=Europe/Amsterdam:20260202T103000
DTEND;TZID=Europe/Amsterdam:20260202T150000
DTSTAMP:20260421T215022
CREATED:20240607T122143Z
LAST-MODIFIED:20241120T123037Z
UID:10008558-1770028200-1770044400@blaercom.nl
SUMMARY:Dagje Blaercom - dagbesteding
DESCRIPTION:Dagbesteding voor ouderen die het moeilijk vinden om invulling te geven aan de dag. \nGeorganiseerd door Versa Welzijn \nMeer informatie:https://blaercom.nl/activiteiten/dagje-blaercom/ \n 
URL:https://blaercom.nl/agenda/dagje-blaercom-dagbesteding-2/2026-02-02/
LOCATION:Blaercom\, Schoolstraat 3\, Blaricum\, Noord-Holland\, 1261 EV\, Nederland
CATEGORIES:Wekelijks,Wekelijks Maandag,Wekelijks Woensdag
ATTACH;FMTTYPE=image/jpeg:https://blaercom.nl/wp-content/uploads/2019/10/Dagje-blaercom-dorsphuis-Blaricum-dagbesteding.jpg
ORGANIZER;CN="Versa Welzijn":MAILTO:info@versawelzijn.nl
GEO:40.602991;-73.959517
X-APPLE-STRUCTURED-LOCATION;VALUE=URI;X-ADDRESS=Blaercom Schoolstraat 3 Blaricum Noord-Holland 1261 EV Nederland;X-APPLE-RADIUS=500;X-TITLE=Schoolstraat 3:geo:-73.959517,40.602991
END:VEVENT
BEGIN:VEVENT
DTSTART;TZID=Europe/Amsterdam:20260204T103000
DTEND;TZID=Europe/Amsterdam:20260204T150000
DTSTAMP:20260421T215022
CREATED:20240607T122143Z
LAST-MODIFIED:20241120T123037Z
UID:10008559-1770201000-1770217200@blaercom.nl
SUMMARY:Dagje Blaercom - dagbesteding
DESCRIPTION:Dagbesteding voor ouderen die het moeilijk vinden om invulling te geven aan de dag. \nGeorganiseerd door Versa Welzijn \nMeer informatie:https://blaercom.nl/activiteiten/dagje-blaercom/ \n 
URL:https://blaercom.nl/agenda/dagje-blaercom-dagbesteding-2/2026-02-04/
LOCATION:Blaercom\, Schoolstraat 3\, Blaricum\, Noord-Holland\, 1261 EV\, Nederland
CATEGORIES:Wekelijks,Wekelijks Maandag,Wekelijks Woensdag
ATTACH;FMTTYPE=image/jpeg:https://blaercom.nl/wp-content/uploads/2019/10/Dagje-blaercom-dorsphuis-Blaricum-dagbesteding.jpg
ORGANIZER;CN="Versa Welzijn":MAILTO:info@versawelzijn.nl
GEO:40.602991;-73.959517
X-APPLE-STRUCTURED-LOCATION;VALUE=URI;X-ADDRESS=Blaercom Schoolstraat 3 Blaricum Noord-Holland 1261 EV Nederland;X-APPLE-RADIUS=500;X-TITLE=Schoolstraat 3:geo:-73.959517,40.602991
END:VEVENT
BEGIN:VEVENT
DTSTART;TZID=Europe/Amsterdam:20260209T103000
DTEND;TZID=Europe/Amsterdam:20260209T150000
DTSTAMP:20260421T215022
CREATED:20240607T122143Z
LAST-MODIFIED:20241120T123037Z
UID:10008560-1770633000-1770649200@blaercom.nl
SUMMARY:Dagje Blaercom - dagbesteding
DESCRIPTION:Dagbesteding voor ouderen die het moeilijk vinden om invulling te geven aan de dag. \nGeorganiseerd door Versa Welzijn \nMeer informatie:https://blaercom.nl/activiteiten/dagje-blaercom/ \n 
URL:https://blaercom.nl/agenda/dagje-blaercom-dagbesteding-2/2026-02-09/
LOCATION:Blaercom\, Schoolstraat 3\, Blaricum\, Noord-Holland\, 1261 EV\, Nederland
CATEGORIES:Wekelijks,Wekelijks Maandag,Wekelijks Woensdag
ATTACH;FMTTYPE=image/jpeg:https://blaercom.nl/wp-content/uploads/2019/10/Dagje-blaercom-dorsphuis-Blaricum-dagbesteding.jpg
ORGANIZER;CN="Versa Welzijn":MAILTO:info@versawelzijn.nl
GEO:40.602991;-73.959517
X-APPLE-STRUCTURED-LOCATION;VALUE=URI;X-ADDRESS=Blaercom Schoolstraat 3 Blaricum Noord-Holland 1261 EV Nederland;X-APPLE-RADIUS=500;X-TITLE=Schoolstraat 3:geo:-73.959517,40.602991
END:VEVENT
BEGIN:VEVENT
DTSTART;TZID=Europe/Amsterdam:20260211T103000
DTEND;TZID=Europe/Amsterdam:20260211T150000
DTSTAMP:20260421T215022
CREATED:20240607T122143Z
LAST-MODIFIED:20241120T123037Z
UID:10008561-1770805800-1770822000@blaercom.nl
SUMMARY:Dagje Blaercom - dagbesteding
DESCRIPTION:Dagbesteding voor ouderen die het moeilijk vinden om invulling te geven aan de dag. \nGeorganiseerd door Versa Welzijn \nMeer informatie:https://blaercom.nl/activiteiten/dagje-blaercom/ \n 
URL:https://blaercom.nl/agenda/dagje-blaercom-dagbesteding-2/2026-02-11/
LOCATION:Blaercom\, Schoolstraat 3\, Blaricum\, Noord-Holland\, 1261 EV\, Nederland
CATEGORIES:Wekelijks,Wekelijks Maandag,Wekelijks Woensdag
ATTACH;FMTTYPE=image/jpeg:https://blaercom.nl/wp-content/uploads/2019/10/Dagje-blaercom-dorsphuis-Blaricum-dagbesteding.jpg
ORGANIZER;CN="Versa Welzijn":MAILTO:info@versawelzijn.nl
GEO:40.602991;-73.959517
X-APPLE-STRUCTURED-LOCATION;VALUE=URI;X-ADDRESS=Blaercom Schoolstraat 3 Blaricum Noord-Holland 1261 EV Nederland;X-APPLE-RADIUS=500;X-TITLE=Schoolstraat 3:geo:-73.959517,40.602991
END:VEVENT
BEGIN:VEVENT
DTSTART;TZID=Europe/Amsterdam:20260216T103000
DTEND;TZID=Europe/Amsterdam:20260216T150000
DTSTAMP:20260421T215022
CREATED:20240607T122143Z
LAST-MODIFIED:20241120T123037Z
UID:10008562-1771237800-1771254000@blaercom.nl
SUMMARY:Dagje Blaercom - dagbesteding
DESCRIPTION:Dagbesteding voor ouderen die het moeilijk vinden om invulling te geven aan de dag. \nGeorganiseerd door Versa Welzijn \nMeer informatie:https://blaercom.nl/activiteiten/dagje-blaercom/ \n 
URL:https://blaercom.nl/agenda/dagje-blaercom-dagbesteding-2/2026-02-16/
LOCATION:Blaercom\, Schoolstraat 3\, Blaricum\, Noord-Holland\, 1261 EV\, Nederland
CATEGORIES:Wekelijks,Wekelijks Maandag,Wekelijks Woensdag
ATTACH;FMTTYPE=image/jpeg:https://blaercom.nl/wp-content/uploads/2019/10/Dagje-blaercom-dorsphuis-Blaricum-dagbesteding.jpg
ORGANIZER;CN="Versa Welzijn":MAILTO:info@versawelzijn.nl
GEO:40.602991;-73.959517
X-APPLE-STRUCTURED-LOCATION;VALUE=URI;X-ADDRESS=Blaercom Schoolstraat 3 Blaricum Noord-Holland 1261 EV Nederland;X-APPLE-RADIUS=500;X-TITLE=Schoolstraat 3:geo:-73.959517,40.602991
END:VEVENT
BEGIN:VEVENT
DTSTART;TZID=Europe/Amsterdam:20260218T103000
DTEND;TZID=Europe/Amsterdam:20260218T150000
DTSTAMP:20260421T215022
CREATED:20240607T122143Z
LAST-MODIFIED:20241120T123037Z
UID:10008563-1771410600-1771426800@blaercom.nl
SUMMARY:Dagje Blaercom - dagbesteding
DESCRIPTION:Dagbesteding voor ouderen die het moeilijk vinden om invulling te geven aan de dag. \nGeorganiseerd door Versa Welzijn \nMeer informatie:https://blaercom.nl/activiteiten/dagje-blaercom/ \n 
URL:https://blaercom.nl/agenda/dagje-blaercom-dagbesteding-2/2026-02-18/
LOCATION:Blaercom\, Schoolstraat 3\, Blaricum\, Noord-Holland\, 1261 EV\, Nederland
CATEGORIES:Wekelijks,Wekelijks Maandag,Wekelijks Woensdag
ATTACH;FMTTYPE=image/jpeg:https://blaercom.nl/wp-content/uploads/2019/10/Dagje-blaercom-dorsphuis-Blaricum-dagbesteding.jpg
ORGANIZER;CN="Versa Welzijn":MAILTO:info@versawelzijn.nl
GEO:40.602991;-73.959517
X-APPLE-STRUCTURED-LOCATION;VALUE=URI;X-ADDRESS=Blaercom Schoolstraat 3 Blaricum Noord-Holland 1261 EV Nederland;X-APPLE-RADIUS=500;X-TITLE=Schoolstraat 3:geo:-73.959517,40.602991
END:VEVENT
BEGIN:VEVENT
DTSTART;TZID=Europe/Amsterdam:20260223T103000
DTEND;TZID=Europe/Amsterdam:20260223T150000
DTSTAMP:20260421T215022
CREATED:20240607T122143Z
LAST-MODIFIED:20241120T123037Z
UID:10008564-1771842600-1771858800@blaercom.nl
SUMMARY:Dagje Blaercom - dagbesteding
DESCRIPTION:Dagbesteding voor ouderen die het moeilijk vinden om invulling te geven aan de dag. \nGeorganiseerd door Versa Welzijn \nMeer informatie:https://blaercom.nl/activiteiten/dagje-blaercom/ \n 
URL:https://blaercom.nl/agenda/dagje-blaercom-dagbesteding-2/2026-02-23/
LOCATION:Blaercom\, Schoolstraat 3\, Blaricum\, Noord-Holland\, 1261 EV\, Nederland
CATEGORIES:Wekelijks,Wekelijks Maandag,Wekelijks Woensdag
ATTACH;FMTTYPE=image/jpeg:https://blaercom.nl/wp-content/uploads/2019/10/Dagje-blaercom-dorsphuis-Blaricum-dagbesteding.jpg
ORGANIZER;CN="Versa Welzijn":MAILTO:info@versawelzijn.nl
GEO:40.602991;-73.959517
X-APPLE-STRUCTURED-LOCATION;VALUE=URI;X-ADDRESS=Blaercom Schoolstraat 3 Blaricum Noord-Holland 1261 EV Nederland;X-APPLE-RADIUS=500;X-TITLE=Schoolstraat 3:geo:-73.959517,40.602991
END:VEVENT
BEGIN:VEVENT
DTSTART;TZID=Europe/Amsterdam:20260225T103000
DTEND;TZID=Europe/Amsterdam:20260225T150000
DTSTAMP:20260421T215022
CREATED:20240607T122143Z
LAST-MODIFIED:20241120T123037Z
UID:10008565-1772015400-1772031600@blaercom.nl
SUMMARY:Dagje Blaercom - dagbesteding
DESCRIPTION:Dagbesteding voor ouderen die het moeilijk vinden om invulling te geven aan de dag. \nGeorganiseerd door Versa Welzijn \nMeer informatie:https://blaercom.nl/activiteiten/dagje-blaercom/ \n 
URL:https://blaercom.nl/agenda/dagje-blaercom-dagbesteding-2/2026-02-25/
LOCATION:Blaercom\, Schoolstraat 3\, Blaricum\, Noord-Holland\, 1261 EV\, Nederland
CATEGORIES:Wekelijks,Wekelijks Maandag,Wekelijks Woensdag
ATTACH;FMTTYPE=image/jpeg:https://blaercom.nl/wp-content/uploads/2019/10/Dagje-blaercom-dorsphuis-Blaricum-dagbesteding.jpg
ORGANIZER;CN="Versa Welzijn":MAILTO:info@versawelzijn.nl
GEO:40.602991;-73.959517
X-APPLE-STRUCTURED-LOCATION;VALUE=URI;X-ADDRESS=Blaercom Schoolstraat 3 Blaricum Noord-Holland 1261 EV Nederland;X-APPLE-RADIUS=500;X-TITLE=Schoolstraat 3:geo:-73.959517,40.602991
END:VEVENT
END:VCALENDAR