BEGIN:VCALENDAR
VERSION:2.0
PRODID:-//Dorpshuis Blaercom Blaricum - ECPv6.15.20//NONSGML v1.0//EN
CALSCALE:GREGORIAN
METHOD:PUBLISH
X-WR-CALNAME:Dorpshuis Blaercom Blaricum
X-ORIGINAL-URL:https://blaercom.nl
X-WR-CALDESC:Evenementen voor Dorpshuis Blaercom Blaricum
REFRESH-INTERVAL;VALUE=DURATION:PT1H
X-Robots-Tag:noindex
X-PUBLISHED-TTL:PT1H
BEGIN:VTIMEZONE
TZID:Europe/Amsterdam
BEGIN:DAYLIGHT
TZOFFSETFROM:+0100
TZOFFSETTO:+0200
TZNAME:CEST
DTSTART:20250330T010000
END:DAYLIGHT
BEGIN:STANDARD
TZOFFSETFROM:+0200
TZOFFSETTO:+0100
TZNAME:CET
DTSTART:20251026T010000
END:STANDARD
BEGIN:DAYLIGHT
TZOFFSETFROM:+0100
TZOFFSETTO:+0200
TZNAME:CEST
DTSTART:20260329T010000
END:DAYLIGHT
BEGIN:STANDARD
TZOFFSETFROM:+0200
TZOFFSETTO:+0100
TZNAME:CET
DTSTART:20261025T010000
END:STANDARD
BEGIN:DAYLIGHT
TZOFFSETFROM:+0100
TZOFFSETTO:+0200
TZNAME:CEST
DTSTART:20270328T010000
END:DAYLIGHT
BEGIN:STANDARD
TZOFFSETFROM:+0200
TZOFFSETTO:+0100
TZNAME:CET
DTSTART:20271031T010000
END:STANDARD
END:VTIMEZONE
BEGIN:VEVENT
DTSTART;TZID=Europe/Amsterdam:20260121T103000
DTEND;TZID=Europe/Amsterdam:20260121T150000
DTSTAMP:20260422T050750
CREATED:20240607T122143Z
LAST-MODIFIED:20241120T123037Z
UID:10008555-1768991400-1769007600@blaercom.nl
SUMMARY:Dagje Blaercom - dagbesteding
DESCRIPTION:Dagbesteding voor ouderen die het moeilijk vinden om invulling te geven aan de dag. \nGeorganiseerd door Versa Welzijn \nMeer informatie:https://blaercom.nl/activiteiten/dagje-blaercom/ \n 
URL:https://blaercom.nl/agenda/dagje-blaercom-dagbesteding-2/2026-01-21/
LOCATION:Blaercom\, Schoolstraat 3\, Blaricum\, Noord-Holland\, 1261 EV\, Nederland
CATEGORIES:Wekelijks,Wekelijks Maandag,Wekelijks Woensdag
ATTACH;FMTTYPE=image/jpeg:https://blaercom.nl/wp-content/uploads/2019/10/Dagje-blaercom-dorsphuis-Blaricum-dagbesteding.jpg
ORGANIZER;CN="Versa Welzijn":MAILTO:info@versawelzijn.nl
GEO:40.602991;-73.959517
X-APPLE-STRUCTURED-LOCATION;VALUE=URI;X-ADDRESS=Blaercom Schoolstraat 3 Blaricum Noord-Holland 1261 EV Nederland;X-APPLE-RADIUS=500;X-TITLE=Schoolstraat 3:geo:-73.959517,40.602991
END:VEVENT
BEGIN:VEVENT
DTSTART;TZID=Europe/Amsterdam:20260122T100000
DTEND;TZID=Europe/Amsterdam:20260122T120000
DTSTAMP:20260422T050750
CREATED:20240228T102145Z
LAST-MODIFIED:20241120T122928Z
UID:10008983-1769076000-1769083200@blaercom.nl
SUMMARY:Blaercom's koffie ochtend
DESCRIPTION:Blaercom’s koffie ochtend \nElke donderdag ochtend tijdens het Blaercom’s koffie ochtend kunt u in goed gezelschap uw dag opstarten met een heerlijk kopje koffie of thee met iets lekkers erbij.\nU kunt gewoon gezellig aanschuiven tussen 10:00 en 12:00 uur. \nTijdens deze twee uur wordt er een gereduceerd tarief berekend voor de koffie en thee \nMeer informatie: Blaercom op donderdag \n 
URL:https://blaercom.nl/agenda/blaercoms-koffie-ochtend/2026-01-22/
LOCATION:Blaercom\, Schoolstraat 3\, Blaricum\, Noord-Holland\, 1261 EV\, Nederland
CATEGORIES:Blaercom op donderdag,Wekelijks
ATTACH;FMTTYPE=image/png:https://blaercom.nl/wp-content/uploads/2019/08/koffie-670x375-e1709115177685.png
ORGANIZER;CN="Blaercom":MAILTO:info@blaercom.nl
GEO:40.602991;-73.959517
X-APPLE-STRUCTURED-LOCATION;VALUE=URI;X-ADDRESS=Blaercom Schoolstraat 3 Blaricum Noord-Holland 1261 EV Nederland;X-APPLE-RADIUS=500;X-TITLE=Schoolstraat 3:geo:-73.959517,40.602991
END:VEVENT
BEGIN:VEVENT
DTSTART;TZID=Europe/Amsterdam:20260123T100000
DTEND;TZID=Europe/Amsterdam:20260123T110000
DTSTAMP:20260422T050750
CREATED:20251010T103831Z
LAST-MODIFIED:20251010T125007Z
UID:10011675-1769162400-1769166000@blaercom.nl
SUMMARY:Body Combinatie les 50+ in Dorpshuis de Blaercom
DESCRIPTION:Een Body Combinatie les maakt het lichaam soepel en sterk tegelijk. De lessen zijn bedoeld voor 50 plussers. \nDe gevarieerde bewegingen geven souplesse\, concentratie\, balans en rust\, waarbij de ademhaling geleidelijk en regelmatig is. Ook leert men het denken te richten op het fysieke lichaam met als gevolg dat men de eigen spieren kan aansturen en men zich goed kan concentreren én ontspannen. De rek- en strekoefeningen maken de spieren sterk\, waarbij tussendoor weer aandacht is voor een stukje ontspanning van het lichaam. \nEr wordt tijdens de lessen af en toe gewerkt met ballen\, rekbanden (dynabands) en hele lichte gewichtjes (halve kilo/1 kilo) om de spieren nog wat extra soepel te maken\, te versterken en de balans te verbeteren. \nInformatie over deze les op tel.nr. 0612025743 of via e-mail houthuijzen1954@kpnmail.nl\nRita Houthuijzen Hakkaart \nVrijdag 10:00 – 11:00 \nBij voldoende aanmelding start er ook een groep op de dinsdagochtend van 11 – 12 uur
URL:https://blaercom.nl/agenda/body-combinatie-les-50-in-dorpshuis-de-blaercom/2026-01-23/
LOCATION:Blaercom\, Schoolstraat 3\, Blaricum\, Noord-Holland\, 1261 EV\, Nederland
CATEGORIES:Sport,Wekelijks,Wekelijks Vrijdag
ATTACH;FMTTYPE=image/jpeg:https://blaercom.nl/wp-content/uploads/2025/10/20240607_110713-scaled.jpg
ORGANIZER;CN="Rita Houthuijzen Hakkaart":MAILTO:houthuijzen1954@kpnmail.nl
GEO:40.602991;-73.959517
X-APPLE-STRUCTURED-LOCATION;VALUE=URI;X-ADDRESS=Blaercom Schoolstraat 3 Blaricum Noord-Holland 1261 EV Nederland;X-APPLE-RADIUS=500;X-TITLE=Schoolstraat 3:geo:-73.959517,40.602991
END:VEVENT
BEGIN:VEVENT
DTSTART;TZID=Europe/Amsterdam:20260123T103000
DTEND;TZID=Europe/Amsterdam:20260123T120000
DTSTAMP:20260422T050750
CREATED:20251027T171424Z
LAST-MODIFIED:20251027T171510Z
UID:10011907-1769164200-1769169600@blaercom.nl
SUMMARY:Italiaans B1+ Posillipo TI 323
DESCRIPTION:Een half gevorderden cursus\, voor iedereen die geïnteresseerd is in de Italiaanse taal\, de cultuur\, het land en de mensen. Er wordt aandacht besteed aan de grammatica\, de spreekvaardigheid en het huiswerk. De woordenschat wordt verder uitgebreid. De nadruk ligt op het spreken. Er wordt tijd besteed aan het taalgebruik in het dagelijks leven\, het luisteren naar de dialogen uit het boek en het bestuderen en oefenen van de grammatica. \nWe zullen ook werken met extra materiaal zoals krantenartikelen\, in overleg met de docente  \nBoek: Italia per Stranieri A2/C1 Alma edizioni \nISBN 9789462937246  \n22 sessies van 1\,5 uur\n€ 370\,00 \nDrs Ester Posillipo-Oosthoek\nMijn naam is Ester Posillipo\, ik ben geboren in Italië. Na talen te hebben gestudeerd in mijn geboorteland\, heb ik een aantal jaren in Engeland gewoond. Ik ben begonnen als docent en vertaalster Engels bij het taleninstituut European Studies in Ivrea. In 1994 ben ik getrouwd en in Nederland komen wonen.Sinds 2007 ben ik docent Italiaans bij de volksuniversiteiten in Het Gooi. Mijn passie ligt bij talen. Ik ben gefascineerd door de manier waarop mensen met elkaar communiceren\, maar vooral door wat mensen écht tegen elkaar willen zeggen. \nInschrijven nog open via Volkuniversiteit ’t Gooi
URL:https://blaercom.nl/agenda/italiaans-b1-posillipo-ti-323/2026-01-23/
LOCATION:Blaercom\, Schoolstraat 3\, Blaricum\, Noord-Holland\, 1261 EV\, Nederland
CATEGORIES:Homepage,Taal & Cultuur
ATTACH;FMTTYPE=image/jpeg:https://blaercom.nl/wp-content/uploads/2019/10/Italiaans-leren-in-Dorpshuis-de-Blaercom-in-Blaricum.jpg
ORGANIZER;CN="Volksuniversiteit Het Gooi":MAILTO:info@volksuniversiteithetgooi.nl
GEO:40.602991;-73.959517
X-APPLE-STRUCTURED-LOCATION;VALUE=URI;X-ADDRESS=Blaercom Schoolstraat 3 Blaricum Noord-Holland 1261 EV Nederland;X-APPLE-RADIUS=500;X-TITLE=Schoolstraat 3:geo:-73.959517,40.602991
END:VEVENT
BEGIN:VEVENT
DTSTART;TZID=Europe/Amsterdam:20260126T090000
DTEND;TZID=Europe/Amsterdam:20260126T120000
DTSTAMP:20260422T050750
CREATED:20251027T115648Z
LAST-MODIFIED:20251027T120357Z
UID:10011795-1769418000-1769428800@blaercom.nl
SUMMARY:Tai Chi najaar (Volksuniversiteit)
DESCRIPTION:Tai Chi Chuan is een eeuwenoude bewegingskunst\, afkomstig uit China. \nHet wordt in Nederland voornamelijk beoefend ter bevordering van de gezondheid. Tai Chi Chuan is een subtiele\, maar krachtige manier om je souplesse\, lichaamsbewustzijn en zelfkennis te vergroten. Bij regelmatig oefenen ga je soepeler bewegen en je immuunsysteem wordt versterkt. De essentie is optimaal presteren onder minimale druk. Het is niet alleen fijn om te doen\, maar ook mooi om te zien. \nNa de beginnerscursus wordt in deze cursus half gevorderden de Tai Chi vorm verder uitgebouwd. \nDiegene die elders al Tai Chi ervaring heeft opgedaan en die zich voor het eerst aanmeldt\, wordt aangeraden om eerst een afspraak voor een aparte proefles te maken\, om te kijken wat de Tai Chi cursus inhoudt en welke instroommogelijkheden er zijn. \nMen moet wel fysiek in staat zijn om een uur te staan om deze lessen te volgen. Bij twijfel overleggen met de docent. \nKledingadvies: comfortabele kleding en platte schoenen zonder profiel. \nDocent: Koa Ying Huang\nKoa Ying Huang is geboren in Indonesië en opgegroeid in Hilversum. Hij beoefent al vele jaren met veel plezier Tai Chi. Hij traint zelf dagelijks en volgt Tai Chi workshops in binnen- en buitenland om zijn kennis steeds meer te verdiepen.\n9.00 – 10.00 uur beginners\n10.00 – 11.00 uur half gevorderden\n11.00 – 12.00 uur gevorderden\nAanmelden:\nHalfgevorderden via Volksuniversitiet\nGevorderden via Volksuniversiteit\nInstromen kan nog.
URL:https://blaercom.nl/agenda/tai-chi-najaar-volksuniversiteit-2/2026-01-26/
LOCATION:Blaercom\, Schoolstraat 3\, Blaricum\, Noord-Holland\, 1261 EV\, Nederland
CATEGORIES:Homepage,Sport,Wekelijks
ATTACH;FMTTYPE=image/jpeg:https://blaercom.nl/wp-content/uploads/2025/10/0784044416c5a2285580d5f3ad96df8e161b431b.jpg
ORGANIZER;CN="Volksuniversiteit Het Gooi":MAILTO:info@volksuniversiteithetgooi.nl
GEO:40.602991;-73.959517
X-APPLE-STRUCTURED-LOCATION;VALUE=URI;X-ADDRESS=Blaercom Schoolstraat 3 Blaricum Noord-Holland 1261 EV Nederland;X-APPLE-RADIUS=500;X-TITLE=Schoolstraat 3:geo:-73.959517,40.602991
END:VEVENT
BEGIN:VEVENT
DTSTART;TZID=Europe/Amsterdam:20260126T190000
DTEND;TZID=Europe/Amsterdam:20260126T200000
DTSTAMP:20260422T050750
CREATED:20240724T132404Z
LAST-MODIFIED:20240724T132811Z
UID:10010194-1769454000-1769457600@blaercom.nl
SUMMARY:Pilates en Yoga door Hester
DESCRIPTION:Pilates en Yoga door Hester \nZie ook de pagina pilates en yoga \n 
URL:https://blaercom.nl/agenda/pilates-en-yoga-door-hester-4/2026-01-26/
LOCATION:Blaercom\, Schoolstraat 3\, Blaricum\, Noord-Holland\, 1261 EV\, Nederland
CATEGORIES:Sport,Wekelijks,Wekelijks Dinsdag
ATTACH;FMTTYPE=image/jpeg:https://blaercom.nl/wp-content/uploads/2019/10/Pilates-training-voor-ouderen-Blaricum.jpg
ORGANIZER;CN="Amazone Body and Mind":MAILTO:info@amazonebodyandmind.nl
GEO:40.602991;-73.959517
X-APPLE-STRUCTURED-LOCATION;VALUE=URI;X-ADDRESS=Blaercom Schoolstraat 3 Blaricum Noord-Holland 1261 EV Nederland;X-APPLE-RADIUS=500;X-TITLE=Schoolstraat 3:geo:-73.959517,40.602991
END:VEVENT
BEGIN:VEVENT
DTSTART;TZID=Europe/Amsterdam:20260126T190000
DTEND;TZID=Europe/Amsterdam:20260126T203000
DTSTAMP:20260422T050750
CREATED:20251027T165014Z
LAST-MODIFIED:20251027T170419Z
UID:10011876-1769454000-1769459400@blaercom.nl
SUMMARY:Alliance Francaise B1
DESCRIPTION:Reguliere cursus B1 \nMaandag: 19:00 – 20:30 uur\nDocente: Gabrielle Greff – van Vliet\n25 lessen van 1\,5 uur\nKosten:  € 320\,- \nAanmelden: Alliance Francaise
URL:https://blaercom.nl/agenda/alliance-francaise-b1/2026-01-26/
LOCATION:Blaercom\, Schoolstraat 3\, Blaricum\, Noord-Holland\, 1261 EV\, Nederland
CATEGORIES:Homepage,Taal & Cultuur
ATTACH;FMTTYPE=image/png:https://blaercom.nl/wp-content/uploads/2025/10/B1-Gabrielle-Greff-Blaercom-maandag-1900.png
ORGANIZER;CN="Alliance Francaise":MAILTO:cursus.gooi@afpb.nl
GEO:40.602991;-73.959517
X-APPLE-STRUCTURED-LOCATION;VALUE=URI;X-ADDRESS=Blaercom Schoolstraat 3 Blaricum Noord-Holland 1261 EV Nederland;X-APPLE-RADIUS=500;X-TITLE=Schoolstraat 3:geo:-73.959517,40.602991
END:VEVENT
BEGIN:VEVENT
DTSTART;TZID=Europe/Amsterdam:20260127T200000
DTEND;TZID=Europe/Amsterdam:20260127T220000
DTSTAMP:20260422T050750
CREATED:20251011T115319Z
LAST-MODIFIED:20251011T115319Z
UID:10011727-1769544000-1769551200@blaercom.nl
SUMMARY:Vocal Group The Ambrosians
DESCRIPTION:The Ambrosians – veelzijdige zanggroep met nieuwe energie \nThe Ambrosians vormen een levendige zanggroep van ongeveer twintig leden die met veel enthousiasme samen zingen en optreden. Sinds begin 2025 staan zij onder de inspirerende leiding van Nico Strubbe\, die met frisse blik en muzikale flair nieuw elan in de groep brengt. \nDe Ambrosians treden jaarlijks zo’n tien keer op\, met steeds een vernieuwend en afwisselend programma. Hun repertoire is breed — van jazz en pop tot musical en lichte klassiek — en wordt muzikaal ondersteund door een eigen combo in wisselende samenstelling. Afhankelijk van het programma klinken naast piano ook contrabas\, saxofoon\, slagwerk\, gitaar en soms zelfs accordeon of blokfluit. \nDe thuisbasis van de groep is Dorpshuis De Blaercom in Blaricum\, waar wekelijks wordt gerepeteerd in een ontspannen en inspirerende sfeer. \nRepetities: elke dinsdagavond van 20.00 tot 22.00 uur\nLocatie: Dorpshuis De Blaercom\, Schoolstraat 3\, Blaricum \nGeïnteresseerd om eens te komen kijken of mee te zingen?\nLoop gerust binnen tijdens een repetitie — nieuwe gezichten zijn van harte welkom!
URL:https://blaercom.nl/agenda/vocal-group-the-ambrosians/2026-01-27/
LOCATION:Blaercom\, Schoolstraat 3\, Blaricum\, Noord-Holland\, 1261 EV\, Nederland
CATEGORIES:Homepage,Wekelijks,Wekelijks Dinsdag,Zang & Muziek
ATTACH;FMTTYPE=image/jpeg:https://blaercom.nl/wp-content/uploads/2025/10/03444d40-b5be-4b24-b552-70a1fa038dea-scaled.jpg
GEO:40.602991;-73.959517
X-APPLE-STRUCTURED-LOCATION;VALUE=URI;X-ADDRESS=Blaercom Schoolstraat 3 Blaricum Noord-Holland 1261 EV Nederland;X-APPLE-RADIUS=500;X-TITLE=Schoolstraat 3:geo:-73.959517,40.602991
END:VEVENT
BEGIN:VEVENT
DTSTART;TZID=Europe/Amsterdam:20260128T103000
DTEND;TZID=Europe/Amsterdam:20260128T120000
DTSTAMP:20260422T050750
CREATED:20251027T170218Z
LAST-MODIFIED:20251027T170218Z
UID:10011893-1769596200-1769601600@blaercom.nl
SUMMARY:Atelier Littérature
DESCRIPTION:Programme de l’atelier Littérature 2025-2026\nL’atelier littérature s’adresse à ceux qui aiment lire et qui\, disposant d’un bon niveau de français\, souhaitent élargir leur connaissance de la langue et de la littérature contemporaine francophone.  \n(Niveau minimal requis : B2) \nDe workshop literatuur richt zich op diegenen die van lezen houden en die beschikken over een behoorlijk niveau van de Franse taal. De workshop is gericht op het vergroten van de kennis van de Franse taal en de hedendaagse Franse literatuur. \n(Minimaal vereist niveau is B2) \nLees meer & aanmelden: Alliance Française
URL:https://blaercom.nl/agenda/atelier-litterature/2026-01-28/
LOCATION:Blaercom\, Schoolstraat 3\, Blaricum\, Noord-Holland\, 1261 EV\, Nederland
CATEGORIES:Homepage,Taal & Cultuur
ATTACH;FMTTYPE=image/jpeg:https://blaercom.nl/wp-content/uploads/2025/10/atelier-litterature.jpg
ORGANIZER;CN="Alliance Francaise":MAILTO:cursus.gooi@afpb.nl
GEO:40.602991;-73.959517
X-APPLE-STRUCTURED-LOCATION;VALUE=URI;X-ADDRESS=Blaercom Schoolstraat 3 Blaricum Noord-Holland 1261 EV Nederland;X-APPLE-RADIUS=500;X-TITLE=Schoolstraat 3:geo:-73.959517,40.602991
END:VEVENT
BEGIN:VEVENT
DTSTART;TZID=Europe/Amsterdam:20260209T090000
DTEND;TZID=Europe/Amsterdam:20260209T120000
DTSTAMP:20260422T050750
CREATED:20251027T122508Z
LAST-MODIFIED:20251027T122508Z
UID:10011851-1770627600-1770638400@blaercom.nl
SUMMARY:Tai Chi voorjaar (Volksuniversiteit)
DESCRIPTION:Tai Chi is een eeuwenoude bewegingskunst\, afkomstig uit China. Het wordt in Nederland voornamelijk beoefend ter bevordering van de gezondheid. Tai Chi Chuan is een subtiele\, maar krachtige manier om je souplesse\, lichaamsbewustzijn en zelfkennis te vergroten. Bij regelmatig oefenen ga je soepeler bewegen en je immuunsysteem wordt versterkt. De essentie is optimaal presteren onder minimale druk. Het is niet alleen fijn om te doen\, maar ook mooi om te zien. \nDiegene die elders al Tai Chi  ervaring heeft opgedaan en die zich voor het eerst aanmeldt\, wordt aangeraden om eerst een afspraak voor een aparte proefles te maken\, om te kijken wat de Tai Chi cursus inhoudt en welke instroommogelijkheden er zijn. \nMen moet wel fysiek in staat zijn om een uur te staan om deze lessen te volgen. Bij twijfel overleggen met de docent. \nKledingadvies: comfortabele kleding en platte schoenen zonder profiel. \nKoa Ying Huang\nKoa Ying Huang is geboren in Indonesië en opgegroeid in Hilversum. Hij beoefent al vele jaren met veel plezier Tai Chi. Hij traint zelf dagelijks en volgt Tai Chi workshops in binnen- en buitenland om zijn kennis steeds meer te verdiepen. \n9.00 – 10.00 uur beginners Aanmelden: via Volksuniversiteit\n10.00 – 11.00 uur half gevorderden Aanmelden: via Volksuniversiteit\n11.00 – 12.00 uur gevorderden aanmelden: via Volksuniversiteit
URL:https://blaercom.nl/agenda/tai-chi-voorjaar-volksuniversiteit/2026-02-09/
LOCATION:Blaercom\, Schoolstraat 3\, Blaricum\, Noord-Holland\, 1261 EV\, Nederland
CATEGORIES:Homepage,Sport,Wekelijks
ATTACH;FMTTYPE=image/jpeg:https://blaercom.nl/wp-content/uploads/2025/10/0784044416c5a2285580d5f3ad96df8e161b431b.jpg
ORGANIZER;CN="Volksuniversiteit Het Gooi":MAILTO:info@volksuniversiteithetgooi.nl
GEO:40.602991;-73.959517
X-APPLE-STRUCTURED-LOCATION;VALUE=URI;X-ADDRESS=Blaercom Schoolstraat 3 Blaricum Noord-Holland 1261 EV Nederland;X-APPLE-RADIUS=500;X-TITLE=Schoolstraat 3:geo:-73.959517,40.602991
END:VEVENT
BEGIN:VEVENT
DTSTART;TZID=Europe/Amsterdam:20260219T180000
DTEND;TZID=Europe/Amsterdam:20260219T220000
DTSTAMP:20260422T050750
CREATED:20251027T121042Z
LAST-MODIFIED:20251027T121042Z
UID:10011849-1771524000-1771538400@blaercom.nl
SUMMARY:Oekraïense kookworkshop met Elena - voorjaarsgerechten
DESCRIPTION:In deze leuke kookworkshop staan veel lichte Oekraïense voorjaarsgerechten centraal. \nOekraïne is een geweldig land met veel mooie tradities\, een rijke geschiedenis\, een veelzijdige cultuur en vooral ook een gastvrije en krachtige bevolking. Eten is een belangrijk onderdeel in het leven van elke Oekraïner\, het is hun identiteit. Het eten wordt samen bedacht\, bereid en gegeten. Het is een teken van creativiteit en saamhorigheid. \nDaarom nodigen wij je uit om samen te gaan koken en te ontdekken wat de Oekraïense keuken inhoudt. Wij maken een heerlijke avondmaaltijd met veel lichte Oekraïense voorjaarsgerechten. Het menu bevat zowel vlees\, vis als groenten. De Oekraïense keuken is puur en simpel\, zonder overdaad aan kruiden. De (h)eerlijke producten zorgen voor de smaak. Elk gerecht heeft geschiedenis\, betekenis en een stukje nostalgie\, die Elena met jou zal delen. \nNeem je enthousiasme\, een schort en afsluitbare bakjes mee om wat voor je nieuwsgierige thuisgenoten mee te nemen. Je krijgt ook de recepten en weetjes over veel gebruikte producten zoals boekweit\, bieten\, knoflook\, dille\, gedroogde pruimen\, walnoten en maanzaad mee. \nVerras en verrijk jezelf\, je familie en je vrienden met deze nieuwe smaken. Wij gaan een bijzondere\, gezellige en smakelijke avond tegemoet zien. \n(+ € 20\,00 materiaalkosten contant te voldoen aan docent) \nElena Tolkachenko\nIk ben Elena. Ik kom uit Oekraïne\, Odessa\, de prachtige stad aan de Zwarte Zee en woon al meer dan 20 jaar in Nederland. Het samen gerechten bereiden en mensen blij maken met Oekraïense gerechten is mijn passie. Ik ben opgegroeid met een chef-kok als vader en ook mijn moeder en oma’s konden heerlijk koken. Als kind stond ik al aan het aanrecht om uien te pellen\, groenten te snijden\, vis schoon te maken\, vlees te malen en te proeven. Deze hobby is nu mijn missie geworden. Zo neem ik deel\, met andere Oekraïense vrouwen\, aan diverse culturele en traditionele activiteiten (bijv. Wereld BBQ in Bussum\, foodfestivals) met als doel onze keuken bekender te maken en in verbinding met elkaar te zijn. \nAanmelden: via Volksuniversiteit
URL:https://blaercom.nl/agenda/oekraiense-kookworkshop-met-elena-voorjaarsgerechten/
LOCATION:Blaercom\, Schoolstraat 3\, Blaricum\, Noord-Holland\, 1261 EV\, Nederland
CATEGORIES:Homepage,Unieke evenementen
ATTACH;FMTTYPE=image/jpeg:https://blaercom.nl/wp-content/uploads/2025/10/15203d54bdb08fa1c8eb2ced9d826468a3fa8d0b.jpg
ORGANIZER;CN="Volksuniversiteit Het Gooi":MAILTO:info@volksuniversiteithetgooi.nl
GEO:40.602991;-73.959517
X-APPLE-STRUCTURED-LOCATION;VALUE=URI;X-ADDRESS=Blaercom Schoolstraat 3 Blaricum Noord-Holland 1261 EV Nederland;X-APPLE-RADIUS=500;X-TITLE=Schoolstraat 3:geo:-73.959517,40.602991
END:VEVENT
BEGIN:VEVENT
DTSTART;TZID=Europe/Amsterdam:20260319T193000
DTEND;TZID=Europe/Amsterdam:20260319T213000
DTSTAMP:20260422T050750
CREATED:20251027T121709Z
LAST-MODIFIED:20251027T121709Z
UID:10011850-1773948600-1773955800@blaercom.nl
SUMMARY:Van Laren naar Blaricum - toen en nu
DESCRIPTION:Frans Ruijter\nFrans is vanaf kind al geïnteresseerd in de geschiedenis van het Gooi en specifiek van Blaricum en Laren en de hier wonende families. Voor de Oranjevereniging is hij speaker bij de Volksspelen en de Solex Vossenjacht op het Oranjeweitje Hij houdt voor de Historische Kring Blaricum dorpsrondwandelingen en dorpslezingen. en schrijft artikelen voor het dorpsblad Hei & Wei. Tevens is hij lid van de Stratencommissie voor de gemeente Blaricum en lid van het 4 en 5 mei comité.\nAanmelden: via Volksuniversiteit
URL:https://blaercom.nl/agenda/van-laren-naar-blaricum-toen-en-nu/
LOCATION:Blaercom\, Schoolstraat 3\, Blaricum\, Noord-Holland\, 1261 EV\, Nederland
CATEGORIES:Homepage,Unieke evenementen
ATTACH;FMTTYPE=image/jpeg:https://blaercom.nl/wp-content/uploads/2025/10/d4ef0cdbe9cb0929c52fabd7618462f25f507d14.jpg
ORGANIZER;CN="Volksuniversiteit Het Gooi":MAILTO:info@volksuniversiteithetgooi.nl
GEO:40.602991;-73.959517
X-APPLE-STRUCTURED-LOCATION;VALUE=URI;X-ADDRESS=Blaercom Schoolstraat 3 Blaricum Noord-Holland 1261 EV Nederland;X-APPLE-RADIUS=500;X-TITLE=Schoolstraat 3:geo:-73.959517,40.602991
END:VEVENT
END:VCALENDAR